BEGIN:VCALENDAR
VERSION:2.0
PRODID:-//Stephen Scoggins - ECPv6.15.18//NONSGML v1.0//EN
CALSCALE:GREGORIAN
METHOD:PUBLISH
X-WR-CALNAME:Stephen Scoggins
X-ORIGINAL-URL:https://stephenscoggins.com
X-WR-CALDESC:Events for Stephen Scoggins
REFRESH-INTERVAL;VALUE=DURATION:PT1H
X-Robots-Tag:noindex
X-PUBLISHED-TTL:PT1H
BEGIN:VTIMEZONE
TZID:UTC
BEGIN:STANDARD
TZOFFSETFROM:+0000
TZOFFSETTO:+0000
TZNAME:UTC
DTSTART:20220101T000000
END:STANDARD
END:VTIMEZONE
BEGIN:VEVENT
DTSTART;TZID=UTC:20230608T080000
DTEND;TZID=UTC:20230610T170000
DTSTAMP:20260421T100216
CREATED:20230224T062828Z
LAST-MODIFIED:20230306T114713Z
UID:17838-1686211200-1686416400@stephenscoggins.com
SUMMARY:UNSTOPPABLE STARTUP
DESCRIPTION:Eight out of ten businesses fail before they ever make it to their second year. Your business does not have to be one of them! Unstoppable Startup was tailor-made for everyday entrepreneurs who want to scale their businesses\, teams\, and market impact. Whether you are starting with a dream or an expanding team well on your way to seven figures\, Unstoppable Startup will give you the tools to make it a reality with the out losing sleep\, relationships\, or your sanity along the way.
URL:https://stephenscoggins.com/event/unstoppable-startup/
LOCATION:Raleigh NC  1540 Mechanical Blvd Garner NC 27529\, 1540 Mechanical Blvd\, Garner\, NC\, 27529\, United States
CATEGORIES:Hybrid Events,Live Events
ATTACH;FMTTYPE=image/png:https://stephenscoggins.com/wp-content/uploads/2023/02/Unstoppable-Startup.png
END:VEVENT
END:VCALENDAR